BEGIN:VCALENDAR
VERSION:2.0
PRODID:-//wp-events-plugin.com//7.2.3.1//EN
BEGIN:VEVENT
UID:4723@leroc.ch
DTSTART;TZID=Europe/Zurich:20260326T093000
DTEND;TZID=Europe/Zurich:20260326T104500
DTSTAMP:20260325T182917Z
URL:https://leroc.ch/events/movement-therapy-private/
SUMMARY:Movement Therapy (private)
DESCRIPTION:09.30 - 10.45\n\n(private)
CATEGORIES:inBewegung
LOCATION:Kinexis Studio in Oerlikon\, Wattstrasse 3\, Zürich\, 8050\, Swit
 zerland
GEO:47.412834;8.545086
X-APPLE-STRUCTURED-LOCATION;VALUE=URI;X-ADDRESS=Wattstrasse 3\, Zürich\, 8
 050\, Switzerland;X-APPLE-RADIUS=100;X-TITLE=Kinexis Studio in Oerlikon:ge
 o:47.412834,8.545086
END:VEVENT
BEGIN:VTIMEZONE
TZID:Europe/Zurich
X-LIC-LOCATION:Europe/Zurich
BEGIN:STANDARD
DTSTART:20251026T020000
TZOFFSETFROM:+0200
TZOFFSETTO:+0100
TZNAME:CET
END:STANDARD
END:VTIMEZONE
END:VCALENDAR