BEGIN:VCALENDAR
VERSION:2.0
PRODID:-//wp-events-plugin.com//7.2.3.1//EN
BEGIN:VEVENT
UID:4834@leroc.ch
DTSTART;TZID=Europe/Zurich:20260416T154500
DTEND;TZID=Europe/Zurich:20260416T170000
DTSTAMP:20260330T211559Z
URL:https://leroc.ch/events/movement-therapy-private-5/
SUMMARY:Movement Therapy (private)
DESCRIPTION:15.45 - 17.00\n\n(private)
CATEGORIES:inBewegung
LOCATION:Kinexis Studio in Oerlikon\, Wattstrasse 3\, Zürich\, 8050\, Swit
 zerland
GEO:47.412834;8.545086
X-APPLE-STRUCTURED-LOCATION;VALUE=URI;X-ADDRESS=Wattstrasse 3\, Zürich\, 8
 050\, Switzerland;X-APPLE-RADIUS=100;X-TITLE=Kinexis Studio in Oerlikon:ge
 o:47.412834,8.545086
END:VEVENT
BEGIN:VTIMEZONE
TZID:Europe/Zurich
X-LIC-LOCATION:Europe/Zurich
BEGIN:DAYLIGHT
DTSTART:20260329T030000
TZOFFSETFROM:+0100
TZOFFSETTO:+0200
TZNAME:CEST
END:DAYLIGHT
END:VTIMEZONE
END:VCALENDAR