BEGIN:VCALENDAR
VERSION:2.0
PRODID:-//wp-events-plugin.com//7.2.3.1//EN
BEGIN:VEVENT
UID:4724@leroc.ch
DTSTART;TZID=Europe/Zurich:20260326T140000
DTEND;TZID=Europe/Zurich:20260326T151500
DTSTAMP:20260322T211656Z
URL:https://leroc.ch/de/events/movement-therapy-private-2/
SUMMARY:Movement Therapy (private)
DESCRIPTION:14.00 - 15.15\n\n(private)
CATEGORIES:inBewegung
LOCATION:Kinexis Studio in Oerlikon\, Wattstrasse 3\, Zürich\, 8050\, Schw
 eiz
GEO:47.412834;8.545086
X-APPLE-STRUCTURED-LOCATION;VALUE=URI;X-ADDRESS=Wattstrasse 3\, Zürich\, 8
 050\, Schweiz;X-APPLE-RADIUS=100;X-TITLE=Kinexis Studio in Oerlikon:geo:47
 .412834,8.545086
END:VEVENT
BEGIN:VTIMEZONE
TZID:Europe/Zurich
X-LIC-LOCATION:Europe/Zurich
BEGIN:STANDARD
DTSTART:20251026T020000
TZOFFSETFROM:+0200
TZOFFSETTO:+0100
TZNAME:CET
END:STANDARD
END:VTIMEZONE
END:VCALENDAR